BEGIN:VCALENDAR
CALSCALE:GREGORIAN
X-WR-TIMEZONE;VALUE=TEXT:GMT
PRODID:PEAK Corporation - piCal -
X-WR-CALNAME;VALUE=TEXT:第一回資源回収
VERSION:2.0
METHOD:PUBLISH
BEGIN:VTIMEZONE
TZID:GMT
BEGIN:STANDARD
DTSTART:19390101T000000
TZOFFSETFROM:+0000
TZOFFSETTO:+0000
TZNAME:GMT
END:STANDARD
END:VTIMEZONE
BEGIN:VEVENT
DTSTART:20100529T230000Z
DTEND:20100530T010000Z
LOCATION:洞戸小学校グランド・大野活性化センター・高賀山自然の家
TRANSP:OPAQUE
SEQUENCE:0
UID:pical060-ae72835c34cd1689de982c1fb36df813
DTSTAMP:20100510T060050Z
CATEGORIES:学校関連（小中）
DESCRIPTION:毎年恒例の洞戸小中学校ＰＴＡによる資源回収です。\nご協力をお願い致します。
SUMMARY:第一回資源回収
PRIORITY:0
CLASS:PUBLIC
END:VEVENT
END:VCALENDAR
