BEGIN:VCALENDAR
CALSCALE:GREGORIAN
X-WR-TIMEZONE;VALUE=TEXT:GMT
PRODID:PEAK Corporation - piCal -
X-WR-CALNAME;VALUE=TEXT:洞戸中央青空市場　開場事前会議
VERSION:2.0
METHOD:PUBLISH
BEGIN:VTIMEZONE
TZID:GMT
BEGIN:STANDARD
DTSTART:19390101T000000
TZOFFSETFROM:+0000
TZOFFSETTO:+0000
TZNAME:GMT
END:STANDARD
END:VTIMEZONE
BEGIN:VEVENT
DTSTART:20100514T093000Z
DTEND:20100514T110000Z
LOCATION:洞戸生涯学習センター
TRANSP:OPAQUE
SEQUENCE:1
UID:pical060-addf198fcd34dccafceab40fe5ae9434
DTSTAMP:20100510T225303Z
CATEGORIES:洞戸村ふるさと塾
DESCRIPTION:内容\n・平成２１年の実績報告（分析）\n・野菜の買上げ制度の導入について（<a href="http://www.horado.com/uploads/photos/573.pdf" target="_blank">Seeds Project</a>）\n・平成２２年の開場日程の決定\n・その他
SUMMARY:洞戸中央青空市場　開場事前会議
PRIORITY:0
CLASS:PUBLIC
END:VEVENT
END:VCALENDAR
