BEGIN:VCALENDAR
CALSCALE:GREGORIAN
X-WR-TIMEZONE;VALUE=TEXT:GMT
PRODID:PEAK Corporation - piCal -
X-WR-CALNAME;VALUE=TEXT:ピースベルフェスティバル実行委員会 立ち上げ会議
VERSION:2.0
METHOD:PUBLISH
BEGIN:VTIMEZONE
TZID:GMT
BEGIN:STANDARD
DTSTART:19390101T000000
TZOFFSETFROM:+0000
TZOFFSETTO:+0000
TZNAME:GMT
END:STANDARD
END:VTIMEZONE
BEGIN:VEVENT
DTSTART:20100518T103000Z
DTEND:20100518T120000Z
LOCATION:洞戸生涯学習センター
TRANSP:OPAQUE
SEQUENCE:1
UID:pical060-a417116def0b61a8d7d2295ef88240b0
DTSTAMP:20100517T001507Z
CATEGORIES:洞戸村ふるさと塾,ほらどまちづくり委員会
DESCRIPTION:各地フェスティバルＤＶＤの視聴 ほか\n<a href="http://www.horado.com/uploads/photos/609.pdf" target="_blank">ピースベルフェスティバル2010 from ほらど 第一回実行委員会</a>
SUMMARY:ピースベルフェスティバル実行委員会 立ち上げ会議
PRIORITY:0
CLASS:PUBLIC
END:VEVENT
END:VCALENDAR
