BEGIN:VCALENDAR
CALSCALE:GREGORIAN
X-WR-TIMEZONE;VALUE=TEXT:GMT
PRODID:PEAK Corporation - piCal -
X-WR-CALNAME;VALUE=TEXT:関市西商工会 通常総代会
VERSION:2.0
METHOD:PUBLISH
BEGIN:VTIMEZONE
TZID:GMT
BEGIN:STANDARD
DTSTART:19390101T000000
TZOFFSETFROM:+0000
TZOFFSETTO:+0000
TZNAME:GMT
END:STANDARD
END:VTIMEZONE
BEGIN:VEVENT
DTSTART:20100521T103000Z
DTEND:20100521T120000Z
LOCATION:洞戸基幹集落センター
TRANSP:OPAQUE
SEQUENCE:0
UID:pical060-099ef3e7480f2b568127cef465bbb3ac
DTSTAMP:20100510T230928Z
CATEGORIES:
DESCRIPTION:関市西商工会は旧洞戸村、板取村、武芸川町の各商工会が合併して結成された商工会です。\n\n議事\n・平成２１年度収支更正予算書（案）の承認に関する件\n・平成２１年度事業報告、収支決算書、貸借対照表の承認に関する件\n・平成２２年度事業計画（案）、収支予算書（案）の決定に関する件\n・借入金最高限度額（案）の承認に関する件\n・付帯事項の承認に関する件
SUMMARY:関市西商工会 通常総代会
PRIORITY:0
CLASS:PUBLIC
END:VEVENT
END:VCALENDAR
