BEGIN:VCALENDAR
CALSCALE:GREGORIAN
X-WR-TIMEZONE;VALUE=TEXT:GMT
PRODID:PEAK Corporation - piCal -
X-WR-CALNAME;VALUE=TEXT:小学校家庭訪問第二日目
VERSION:2.0
METHOD:PUBLISH
BEGIN:VTIMEZONE
TZID:GMT
BEGIN:STANDARD
DTSTART:19390101T000000
TZOFFSETFROM:+0000
TZOFFSETTO:+0000
TZNAME:GMT
END:STANDARD
END:VTIMEZONE
BEGIN:VEVENT
DTSTART:20100514T050000Z
DTEND:20100514T080000Z
LOCATION:
TRANSP:OPAQUE
SEQUENCE:0
UID:pical060-00537279768182cdd3aad9ea3e19d377
DTSTAMP:20100511T044252Z
CATEGORIES:学校関連（小中）
DESCRIPTION:できるだけ時間通りに回るよう心がけますのでよろしくお願いします。
SUMMARY:小学校家庭訪問第二日目
PRIORITY:0
CLASS:PUBLIC
END:VEVENT
END:VCALENDAR
