BEGIN:VCALENDAR
CALSCALE:GREGORIAN
X-WR-TIMEZONE;VALUE=TEXT:GMT
PRODID:PEAK Corporation - piCal -
X-WR-CALNAME;VALUE=TEXT:１年高山研修
VERSION:2.0
METHOD:PUBLISH
BEGIN:VTIMEZONE
TZID:GMT
BEGIN:STANDARD
DTSTART:19390101T000000
TZOFFSETFROM:+0000
TZOFFSETTO:+0000
TZNAME:GMT
END:STANDARD
END:VTIMEZONE
BEGIN:VEVENT
DTSTART:20100520T000000Z
DTEND:20100520T080000Z
LOCATION:高山市・乗鞍青少年交流の家
TRANSP:OPAQUE
SEQUENCE:1
UID:pical060-41f5c8fbfab6cb1a88d479adf9a89fce
DTSTAMP:20100519T021741Z
CATEGORIES:学校関連（小中）
DESCRIPTION:８：００洞戸中学校発。\n第１日目は、飛騨産業で家具づくりの様子を見学した後、高山市内を班別で研修します。\n１６：００乗鞍青少年交流の家到着予定。
SUMMARY:１年高山研修
PRIORITY:0
CLASS:PUBLIC
END:VEVENT
END:VCALENDAR
