BEGIN:VCALENDAR
CALSCALE:GREGORIAN
X-WR-TIMEZONE;VALUE=TEXT:GMT
PRODID:PEAK Corporation - piCal -
X-WR-CALNAME;VALUE=TEXT:２年三重研修
VERSION:2.0
METHOD:PUBLISH
BEGIN:VTIMEZONE
TZID:GMT
BEGIN:STANDARD
DTSTART:19390101T000000
TZOFFSETFROM:+0000
TZOFFSETTO:+0000
TZNAME:GMT
END:STANDARD
END:VTIMEZONE
BEGIN:VEVENT
DTSTART:20100603T000000Z
DTEND:20100603T080000Z
LOCATION:三重県津市
TRANSP:OPAQUE
SEQUENCE:0
UID:pical060-a262d5ea2db8fe51695bdcc13e2399c5
DTSTAMP:20100513T011222Z
CATEGORIES:学校関連（小中）
DESCRIPTION:８：００洞戸中学校発。\n第１日目は、班別に川越火力発電所、三菱化学、味の素を訪問し、研修します。\n夕食は、自分たちで材料を買い出しに行き、バーベキューをします。
SUMMARY:２年三重研修
PRIORITY:0
CLASS:PUBLIC
END:VEVENT
END:VCALENDAR
