BEGIN:VCALENDAR
CALSCALE:GREGORIAN
X-WR-TIMEZONE;VALUE=TEXT:GMT
PRODID:PEAK Corporation - piCal -
X-WR-CALNAME;VALUE=TEXT:３年東京研修
VERSION:2.0
METHOD:PUBLISH
BEGIN:VTIMEZONE
TZID:GMT
BEGIN:STANDARD
DTSTART:19390101T000000
TZOFFSETFROM:+0000
TZOFFSETTO:+0000
TZNAME:GMT
END:STANDARD
END:VTIMEZONE
BEGIN:VEVENT
DTSTART:20100611T000000Z
DTEND:20100611T080000Z
LOCATION:東京都
TRANSP:OPAQUE
SEQUENCE:1
UID:pical060-2fefea46af6eedfe2e54d5435ec2d1cc
DTSTAMP:20100513T034032Z
CATEGORIES:学校関連（小中）
DESCRIPTION:第３日目は、選択体験学習です。\n江戸風鈴、江戸切子づくり、手話体験など、自分が選択した活動に取り組みます。\n１７：３０洞戸中学校到着予定です。
SUMMARY:３年東京研修
PRIORITY:0
CLASS:PUBLIC
END:VEVENT
END:VCALENDAR
