BEGIN:VCALENDAR
CALSCALE:GREGORIAN
X-WR-TIMEZONE;VALUE=TEXT:GMT
PRODID:PEAK Corporation - piCal -
X-WR-CALNAME;VALUE=TEXT:洞戸中テニス部県大会（ｗ）
VERSION:2.0
METHOD:PUBLISH
BEGIN:VTIMEZONE
TZID:GMT
BEGIN:STANDARD
DTSTART:19390101T000000
TZOFFSETFROM:+0000
TZOFFSETTO:+0000
TZNAME:GMT
END:STANDARD
END:VTIMEZONE
BEGIN:VEVENT
DTSTART:20100522T000000Z
DTEND:20100522T080000Z
LOCATION:
TRANSP:OPAQUE
SEQUENCE:1
UID:pical060-fdab566e251ebd0a084ea5b598174a00
DTSTAMP:20100519T022002Z
CATEGORIES:学校関連（小中）
DESCRIPTION:武藤雅文、武藤雅典ペアが出場します。
SUMMARY:洞戸中テニス部県大会（ｗ）
PRIORITY:0
CLASS:PUBLIC
END:VEVENT
END:VCALENDAR
