BEGIN:VCALENDAR
CALSCALE:GREGORIAN
X-WR-TIMEZONE;VALUE=TEXT:GMT
PRODID:PEAK Corporation - piCal -
X-WR-CALNAME;VALUE=TEXT:洞戸中テニス部県大会（ｓ）
VERSION:2.0
METHOD:PUBLISH
BEGIN:VTIMEZONE
TZID:GMT
BEGIN:STANDARD
DTSTART:19390101T000000
TZOFFSETFROM:+0000
TZOFFSETTO:+0000
TZNAME:GMT
END:STANDARD
END:VTIMEZONE
BEGIN:VEVENT
DTSTART:20100605T000000Z
DTEND:20100605T080000Z
LOCATION:
TRANSP:OPAQUE
SEQUENCE:0
UID:pical060-c805652ccfe42dbadd97e4298e3da9f6
DTSTAMP:20100519T022409Z
CATEGORIES:学校関連（小中）
DESCRIPTION:長江道弘さん、後藤さく良さんが出場します。
SUMMARY:洞戸中テニス部県大会（ｓ）
PRIORITY:0
CLASS:PUBLIC
END:VEVENT
END:VCALENDAR
