BEGIN:VCALENDAR
CALSCALE:GREGORIAN
X-WR-TIMEZONE;VALUE=TEXT:GMT
PRODID:PEAK Corporation - piCal -
X-WR-CALNAME;VALUE=TEXT:センター職員会・サロン会
VERSION:2.0
METHOD:PUBLISH
BEGIN:VTIMEZONE
TZID:GMT
BEGIN:STANDARD
DTSTART:19390101T000000
TZOFFSETFROM:+0000
TZOFFSETTO:+0000
TZNAME:GMT
END:STANDARD
END:VTIMEZONE
BEGIN:VEVENT
DTSTART:20100615T103000Z
DTEND:20100615T123000Z
LOCATION:
TRANSP:OPAQUE
SEQUENCE:1
UID:pical060-c823f1dd021746b008bd6ae08c9f4a96
DTSTAMP:20100614T034653Z
CATEGORIES:ほらどまちづくり委員会,学習センター,ネットサロン
DESCRIPTION:
SUMMARY:センター職員会・サロン会
PRIORITY:0
CLASS:PUBLIC
END:VEVENT
END:VCALENDAR
