BEGIN:VCALENDAR
CALSCALE:GREGORIAN
X-WR-TIMEZONE;VALUE=TEXT:GMT
PRODID:PEAK Corporation - piCal -
X-WR-CALNAME;VALUE=TEXT:はじめてのパソコン講座
VERSION:2.0
METHOD:PUBLISH
BEGIN:VTIMEZONE
TZID:Etc/GMT-9
BEGIN:STANDARD
DTSTART:19390101T000000
TZOFFSETFROM:+0900
TZOFFSETTO:+0900
TZNAME:Etc/GMT-9
END:STANDARD
END:VTIMEZONE
BEGIN:VEVENT
DTSTART;TZID=Etc/GMT-9:20100424T133000
DTEND;TZID=Etc/GMT-9:20100424T153000
LOCATION:洞戸ネットサロン
TRANSP:OPAQUE
SEQUENCE:0
UID:pical060-128daeaa2fa8317c848431107c3f5f2a
DTSTAMP:20100519T051137Z
CATEGORIES:
DESCRIPTION:
SUMMARY:はじめてのパソコン講座
RRULE:FREQ=WEEKLY;INTERVAL=1;BYDAY=SA;COUNT=6;WKST=SU
PRIORITY:0
CLASS:PUBLIC
END:VEVENT
END:VCALENDAR
