BEGIN:VCALENDAR
CALSCALE:GREGORIAN
X-WR-TIMEZONE;VALUE=TEXT:GMT
PRODID:PEAK Corporation - piCal -
X-WR-CALNAME;VALUE=TEXT:美濃地区総合型クラブ連絡協議会
VERSION:2.0
METHOD:PUBLISH
BEGIN:VTIMEZONE
TZID:GMT
BEGIN:STANDARD
DTSTART:19390101T000000
TZOFFSETFROM:+0000
TZOFFSETTO:+0000
TZNAME:GMT
END:STANDARD
END:VTIMEZONE
BEGIN:VEVENT
DTSTART:20100602T093000Z
DTEND:20100602T110000Z
LOCATION:美濃庁舎　３階　会議室
TRANSP:OPAQUE
SEQUENCE:0
UID:pical060-666b6a2a1d259461c5be647f5346ae15
DTSTAMP:20100519T085929Z
CATEGORIES:キウイスポーツクラブ
DESCRIPTION:美濃地区総合型地域スポーツクラブ代表者の参集を求め、意見交換することによりクラブ間の連携を深め、各クラブの安定した運営と充実を図る。
SUMMARY:美濃地区総合型クラブ連絡協議会
PRIORITY:0
CLASS:PUBLIC
END:VEVENT
END:VCALENDAR
