BEGIN:VCALENDAR
CALSCALE:GREGORIAN
X-WR-TIMEZONE;VALUE=TEXT:GMT
PRODID:PEAK Corporation - piCal -
X-WR-CALNAME;VALUE=TEXT:高賀おりべ庵 内部清掃
VERSION:2.0
METHOD:PUBLISH
BEGIN:VTIMEZONE
TZID:GMT
BEGIN:STANDARD
DTSTART:19390101T000000
TZOFFSETFROM:+0000
TZOFFSETTO:+0000
TZNAME:GMT
END:STANDARD
END:VTIMEZONE
BEGIN:VEVENT
DTSTART:20100523T000000Z
DTEND:20100523T020000Z
LOCATION:高賀おりべ庵
TRANSP:OPAQUE
SEQUENCE:0
UID:pical060-28fcb252f8d2d6eba2bd458d70fa5e54
DTSTAMP:20100522T065940Z
CATEGORIES:洞戸村ふるさと塾
DESCRIPTION:内部清掃と水周りのチェック
SUMMARY:高賀おりべ庵 内部清掃
PRIORITY:0
CLASS:PUBLIC
END:VEVENT
END:VCALENDAR
