BEGIN:VCALENDAR
CALSCALE:GREGORIAN
X-WR-TIMEZONE;VALUE=TEXT:GMT
PRODID:PEAK Corporation - piCal -
X-WR-CALNAME;VALUE=TEXT:洞戸防災会議
VERSION:2.0
METHOD:PUBLISH
BEGIN:VTIMEZONE
TZID:GMT
BEGIN:STANDARD
DTSTART:19390101T000000
TZOFFSETFROM:+0000
TZOFFSETTO:+0000
TZNAME:GMT
END:STANDARD
END:VTIMEZONE
BEGIN:VEVENT
DTSTART:20100602T103000Z
DTEND:20100602T120000Z
LOCATION:洞戸生涯学習センター
TRANSP:OPAQUE
SEQUENCE:0
UID:pical060-29d86630f091df55c87abb0f18e394d0
DTSTAMP:20100522T070731Z
CATEGORIES:ほらどまちづくり委員会
DESCRIPTION:平成22年度第一回会議\n内容：今年度事業について\n
SUMMARY:洞戸防災会議
PRIORITY:0
CLASS:PUBLIC
END:VEVENT
END:VCALENDAR
