BEGIN:VCALENDAR
CALSCALE:GREGORIAN
X-WR-TIMEZONE;VALUE=TEXT:GMT
PRODID:PEAK Corporation - piCal -
X-WR-CALNAME;VALUE=TEXT:洞戸夏祭り　実行委員会
VERSION:2.0
METHOD:PUBLISH
BEGIN:VTIMEZONE
TZID:GMT
BEGIN:STANDARD
DTSTART:19390101T000000
TZOFFSETFROM:+0000
TZOFFSETTO:+0000
TZNAME:GMT
END:STANDARD
END:VTIMEZONE
BEGIN:VEVENT
DTSTART:20100608T103000Z
DTEND:20100608T120000Z
LOCATION:洞戸生涯学習センター
TRANSP:OPAQUE
SEQUENCE:0
UID:pical060-d86932fcbf5647df114e8fd846633739
DTSTAMP:20100522T071342Z
CATEGORIES:ほらどまちづくり委員会
DESCRIPTION:平成22年度第一回実行委員会
SUMMARY:洞戸夏祭り　実行委員会
PRIORITY:0
CLASS:PUBLIC
END:VEVENT
END:VCALENDAR
