BEGIN:VCALENDAR
CALSCALE:GREGORIAN
X-WR-TIMEZONE;VALUE=TEXT:GMT
PRODID:PEAK Corporation - piCal -
X-WR-CALNAME;VALUE=TEXT:テニス中体連市大会
VERSION:2.0
METHOD:PUBLISH
BEGIN:VTIMEZONE
TZID:GMT
BEGIN:STANDARD
DTSTART:19390101T000000
TZOFFSETFROM:+0000
TZOFFSETTO:+0000
TZNAME:GMT
END:STANDARD
END:VTIMEZONE
BEGIN:VEVENT
DTSTART:20100703T000000Z
DTEND:20100703T080000Z
LOCATION:
TRANSP:OPAQUE
SEQUENCE:0
UID:pical060-f1c835bbc371b038abecf6f0a6746db7
DTSTAMP:20100528T061829Z
CATEGORIES:
DESCRIPTION:
SUMMARY:テニス中体連市大会
PRIORITY:0
CLASS:PUBLIC
END:VEVENT
END:VCALENDAR
