BEGIN:VCALENDAR
CALSCALE:GREGORIAN
X-WR-TIMEZONE;VALUE=TEXT:GMT
PRODID:PEAK Corporation - piCal -
X-WR-CALNAME;VALUE=TEXT:中体連地区大会
VERSION:2.0
METHOD:PUBLISH
BEGIN:VTIMEZONE
TZID:GMT
BEGIN:STANDARD
DTSTART:19390101T000000
TZOFFSETFROM:+0000
TZOFFSETTO:+0000
TZNAME:GMT
END:STANDARD
END:VTIMEZONE
BEGIN:VEVENT
DTSTART:20100717T000000Z
DTEND:20100717T080000Z
LOCATION:
TRANSP:OPAQUE
SEQUENCE:0
UID:pical060-bfeadde0f86c96ca82443bfdb894102e
DTSTAMP:20100528T062129Z
CATEGORIES:学校関連（小中）
DESCRIPTION:洞戸中テニス、バレー、バスケット部が中体連の地区大会に参加します。
SUMMARY:中体連地区大会
PRIORITY:0
CLASS:PUBLIC
END:VEVENT
END:VCALENDAR
