BEGIN:VCALENDAR
CALSCALE:GREGORIAN
X-WR-TIMEZONE;VALUE=TEXT:GMT
PRODID:PEAK Corporation - piCal -
X-WR-CALNAME;VALUE=TEXT:洞戸中１学期終業式
VERSION:2.0
METHOD:PUBLISH
BEGIN:VTIMEZONE
TZID:GMT
BEGIN:STANDARD
DTSTART:19390101T000000
TZOFFSETFROM:+0000
TZOFFSETTO:+0000
TZNAME:GMT
END:STANDARD
END:VTIMEZONE
BEGIN:VEVENT
DTSTART:20100719T230000Z
DTEND:20100720T023000Z
LOCATION:洞戸中学校
TRANSP:OPAQUE
SEQUENCE:0
UID:pical060-f9b50d5f9420790dbe8a3a0c939f5b70
DTSTAMP:20100528T062527Z
CATEGORIES:学校関連（小中）
DESCRIPTION:１学期が終わります。夏休みは８月２１日から８月３１日までです。
SUMMARY:洞戸中１学期終業式
PRIORITY:0
CLASS:PUBLIC
END:VEVENT
END:VCALENDAR
