BEGIN:VCALENDAR
CALSCALE:GREGORIAN
X-WR-TIMEZONE;VALUE=TEXT:GMT
PRODID:PEAK Corporation - piCal -
X-WR-CALNAME;VALUE=TEXT:PC)ワード基礎講座?
VERSION:2.0
METHOD:PUBLISH
BEGIN:VTIMEZONE
TZID:GMT
BEGIN:STANDARD
DTSTART:19390101T000000
TZOFFSETFROM:+0000
TZOFFSETTO:+0000
TZNAME:GMT
END:STANDARD
END:VTIMEZONE
BEGIN:VEVENT
DTSTART:20100703T043000Z
DTEND:20100703T063000Z
LOCATION:洞戸ネットサロン
TRANSP:OPAQUE
SEQUENCE:0
UID:pical060-b0b4e7749bb5d0ed7996e1f7383597cf
DTSTAMP:20100616T155337Z
CATEGORIES:
DESCRIPTION:
SUMMARY:PC)ワード基礎講座?
PRIORITY:0
CLASS:PUBLIC
END:VEVENT
END:VCALENDAR
