BEGIN:VCALENDAR
CALSCALE:GREGORIAN
X-WR-TIMEZONE;VALUE=TEXT:GMT
PRODID:PEAK Corporation - piCal -
X-WR-CALNAME;VALUE=TEXT:洞戸小学校参観日
VERSION:2.0
METHOD:PUBLISH
BEGIN:VTIMEZONE
TZID:GMT
BEGIN:STANDARD
DTSTART:19390101T000000
TZOFFSETFROM:+0000
TZOFFSETTO:+0000
TZNAME:GMT
END:STANDARD
END:VTIMEZONE
BEGIN:VEVENT
DTSTART:20100701T043000Z
DTEND:20100701T073000Z
LOCATION:洞戸小学校
TRANSP:OPAQUE
SEQUENCE:0
UID:pical060-a53889f74bb4ada1358b7dc5a00f326f
DTSTAMP:20100625T050704Z
CATEGORIES:
DESCRIPTION:夏休み前の大事な参観日です。よろしくお願いします。尚、参観後にアンケートにご協力ください。１学期の反省として参考にいたします。
SUMMARY:洞戸小学校参観日
PRIORITY:0
CLASS:PUBLIC
END:VEVENT
END:VCALENDAR
