BEGIN:VCALENDAR
CALSCALE:GREGORIAN
X-WR-TIMEZONE;VALUE=TEXT:GMT
PRODID:PEAK Corporation - piCal -
X-WR-CALNAME;VALUE=TEXT:洞戸小学校ＰＴＡ評議会
VERSION:2.0
METHOD:PUBLISH
BEGIN:VTIMEZONE
TZID:GMT
BEGIN:STANDARD
DTSTART:19390101T000000
TZOFFSETFROM:+0000
TZOFFSETTO:+0000
TZNAME:GMT
END:STANDARD
END:VTIMEZONE
BEGIN:VEVENT
DTSTART:20100701T103000Z
DTEND:20100701T120000Z
LOCATION:洞戸小学校ランチルーム
TRANSP:OPAQUE
SEQUENCE:0
UID:pical060-f2fd3661808e2a41c7a9f8c04af11e0d
DTSTAMP:20100625T051002Z
CATEGORIES:
DESCRIPTION:通学路整備作業や家庭教育学級について話し合います。よろしくお願いします。
SUMMARY:洞戸小学校ＰＴＡ評議会
PRIORITY:0
CLASS:PUBLIC
END:VEVENT
END:VCALENDAR
