BEGIN:VCALENDAR
CALSCALE:GREGORIAN
X-WR-TIMEZONE;VALUE=TEXT:GMT
PRODID:PEAK Corporation - piCal -
X-WR-CALNAME;VALUE=TEXT:洞戸小個人懇談会１
VERSION:2.0
METHOD:PUBLISH
BEGIN:VTIMEZONE
TZID:GMT
BEGIN:STANDARD
DTSTART:19390101T000000
TZOFFSETFROM:+0000
TZOFFSETTO:+0000
TZNAME:GMT
END:STANDARD
END:VTIMEZONE
BEGIN:VEVENT
DTSTART:20100722T000000Z
DTEND:20100722T080000Z
LOCATION:洞戸小各教室
TRANSP:OPAQUE
SEQUENCE:0
UID:pical060-a26e05693774945884a818541659a55c
DTSTAMP:20100625T051615Z
CATEGORIES:
DESCRIPTION:・１学期の子どもの様子について\n・夏休みの生活について\n・学習補充について\n・その他
SUMMARY:洞戸小個人懇談会１
PRIORITY:0
CLASS:PUBLIC
END:VEVENT
END:VCALENDAR
