BEGIN:VCALENDAR
CALSCALE:GREGORIAN
X-WR-TIMEZONE;VALUE=TEXT:GMT
PRODID:PEAK Corporation - piCal -
X-WR-CALNAME;VALUE=TEXT:洞戸小赤帽脱出作戦３
VERSION:2.0
METHOD:PUBLISH
BEGIN:VTIMEZONE
TZID:GMT
BEGIN:STANDARD
DTSTART:19390101T000000
TZOFFSETFROM:+0000
TZOFFSETTO:+0000
TZNAME:GMT
END:STANDARD
END:VTIMEZONE
BEGIN:VEVENT
DTSTART:20100729T010000Z
DTEND:20100729T023000Z
LOCATION:
TRANSP:OPAQUE
SEQUENCE:0
UID:pical060-3498a3ce17978a4acd09144987a83e0d
DTSTAMP:20100625T052851Z
CATEGORIES:
DESCRIPTION:この３日間で２５メートルを泳げるようになってほしいのです。
SUMMARY:洞戸小赤帽脱出作戦３
PRIORITY:0
CLASS:PUBLIC
END:VEVENT
END:VCALENDAR
