BEGIN:VCALENDAR
CALSCALE:GREGORIAN
X-WR-TIMEZONE;VALUE=TEXT:GMT
PRODID:PEAK Corporation - piCal -
X-WR-CALNAME;VALUE=TEXT:運動公園草刈り
VERSION:2.0
METHOD:PUBLISH
BEGIN:VTIMEZONE
TZID:GMT
BEGIN:STANDARD
DTSTART:19390101T000000
TZOFFSETFROM:+0000
TZOFFSETTO:+0000
TZNAME:GMT
END:STANDARD
END:VTIMEZONE
BEGIN:VEVENT
DTSTART:20100704T000000Z
DTEND:20100704T090000Z
LOCATION:洞戸運動公園
TRANSP:OPAQUE
SEQUENCE:0
UID:pical060-6f3723089a79b85361fe1c82b373c604
DTSTAMP:20100628T141400Z
CATEGORIES:キウイスポーツクラブ,関市洞戸運動公園
DESCRIPTION:サバンナになっている公園をメインに草刈りをします。\nお天気になりますように！\n理事さんは集合お願いします
SUMMARY:運動公園草刈り
PRIORITY:0
CLASS:PUBLIC
END:VEVENT
END:VCALENDAR
