BEGIN:VCALENDAR
CALSCALE:GREGORIAN
X-WR-TIMEZONE;VALUE=TEXT:GMT
PRODID:PEAK Corporation - piCal -
X-WR-CALNAME;VALUE=TEXT:運動公園スタッフ会
VERSION:2.0
METHOD:PUBLISH
BEGIN:VTIMEZONE
TZID:GMT
BEGIN:STANDARD
DTSTART:19390101T000000
TZOFFSETFROM:+0000
TZOFFSETTO:+0000
TZNAME:GMT
END:STANDARD
END:VTIMEZONE
BEGIN:VEVENT
DTSTART:20100726T003000Z
DTEND:20100726T013000Z
LOCATION:運動公園管理棟
TRANSP:OPAQUE
SEQUENCE:0
UID:pical060-cdbc1d25f25891c2c3acdb11bafc1f5e
DTSTAMP:20100628T141638Z
CATEGORIES:キウイスポーツクラブ,関市洞戸運動公園
DESCRIPTION:８月のシフト等の確認他
SUMMARY:運動公園スタッフ会
PRIORITY:0
CLASS:PUBLIC
END:VEVENT
END:VCALENDAR
