BEGIN:VCALENDAR
CALSCALE:GREGORIAN
X-WR-TIMEZONE;VALUE=TEXT:GMT
PRODID:PEAK Corporation - piCal -
X-WR-CALNAME;VALUE=TEXT:KSCキッズテニス教室(高?)
VERSION:2.0
METHOD:PUBLISH
BEGIN:VTIMEZONE
TZID:GMT
BEGIN:STANDARD
DTSTART:19390101T000000
TZOFFSETFROM:+0000
TZOFFSETTO:+0000
TZNAME:GMT
END:STANDARD
END:VTIMEZONE
BEGIN:VEVENT
DTSTART:20100925T090000Z
DTEND:20100925T100000Z
LOCATION:洞戸大野テニスコート
TRANSP:OPAQUE
SEQUENCE:0
UID:pical060-6a5f50408c1b6cd1d29222c9cb55fd6e
DTSTAMP:20100628T142233Z
CATEGORIES:キウイスポーツクラブ,関市洞戸運動公園
DESCRIPTION:詳細は夏休み明けに小学校にて募集チラシを配布します。
SUMMARY:KSCキッズテニス教室(高?)
PRIORITY:0
CLASS:PUBLIC
END:VEVENT
END:VCALENDAR
