BEGIN:VCALENDAR
CALSCALE:GREGORIAN
X-WR-TIMEZONE;VALUE=TEXT:GMT
PRODID:PEAK Corporation - piCal -
X-WR-CALNAME;VALUE=TEXT:KSCキッズテニス教室(高?)
VERSION:2.0
METHOD:PUBLISH
BEGIN:VTIMEZONE
TZID:GMT
BEGIN:STANDARD
DTSTART:19390101T000000
TZOFFSETFROM:+0000
TZOFFSETTO:+0000
TZNAME:GMT
END:STANDARD
END:VTIMEZONE
BEGIN:VEVENT
DTSTART:20101002T090000Z
DTEND:20101002T100000Z
LOCATION:洞戸大野テニスコート
TRANSP:OPAQUE
SEQUENCE:0
UID:pical060-c908ce20fee0d7a092453b4b3dd229d1
DTSTAMP:20100628T142427Z
CATEGORIES:
DESCRIPTION:
SUMMARY:KSCキッズテニス教室(高?)
PRIORITY:0
CLASS:PUBLIC
END:VEVENT
END:VCALENDAR
