BEGIN:VCALENDAR
CALSCALE:GREGORIAN
X-WR-TIMEZONE;VALUE=TEXT:GMT
PRODID:PEAK Corporation - piCal -
X-WR-CALNAME;VALUE=TEXT:KSCキッズテニス教室(低?)
VERSION:2.0
METHOD:PUBLISH
BEGIN:VTIMEZONE
TZID:GMT
BEGIN:STANDARD
DTSTART:19390101T000000
TZOFFSETFROM:+0000
TZOFFSETTO:+0000
TZNAME:GMT
END:STANDARD
END:VTIMEZONE
BEGIN:VEVENT
DTSTART:20101003T090000Z
DTEND:20101003T100000Z
LOCATION:洞戸大野テニスコート
TRANSP:OPAQUE
SEQUENCE:0
UID:pical060-e8839748baf1d9dca11bf392581727d6
DTSTAMP:20100628T142915Z
CATEGORIES:キウイスポーツクラブ,関市洞戸運動公園
DESCRIPTION:
SUMMARY:KSCキッズテニス教室(低?)
PRIORITY:0
CLASS:PUBLIC
END:VEVENT
END:VCALENDAR
