BEGIN:VCALENDAR
CALSCALE:GREGORIAN
X-WR-TIMEZONE;VALUE=TEXT:GMT
PRODID:PEAK Corporation - piCal -
X-WR-CALNAME;VALUE=TEXT:洞中薬物乱用防止教室
VERSION:2.0
METHOD:PUBLISH
BEGIN:VTIMEZONE
TZID:GMT
BEGIN:STANDARD
DTSTART:19390101T000000
TZOFFSETFROM:+0000
TZOFFSETTO:+0000
TZNAME:GMT
END:STANDARD
END:VTIMEZONE
BEGIN:VEVENT
DTSTART:20100709T050000Z
DTEND:20100709T055000Z
LOCATION:洞戸中学校　体育館
TRANSP:OPAQUE
SEQUENCE:0
UID:pical060-ec10f2a879d81828b1eff4ffa727d5ce
DTSTAMP:20100706T013724Z
CATEGORIES:学校関連（小中）
DESCRIPTION:関警察署生活安全課の職員を講師に招き、薬物乱用による心身への影響について学習します。
SUMMARY:洞中薬物乱用防止教室
PRIORITY:0
CLASS:PUBLIC
END:VEVENT
END:VCALENDAR
