BEGIN:VCALENDAR
CALSCALE:GREGORIAN
X-WR-TIMEZONE;VALUE=TEXT:GMT
PRODID:PEAK Corporation - piCal -
X-WR-CALNAME;VALUE=TEXT:洞中ＰＴＡ地区懇談会
VERSION:2.0
METHOD:PUBLISH
BEGIN:VTIMEZONE
TZID:GMT
BEGIN:STANDARD
DTSTART:19390101T000000
TZOFFSETFROM:+0000
TZOFFSETTO:+0000
TZNAME:GMT
END:STANDARD
END:VTIMEZONE
BEGIN:VEVENT
DTSTART:20100715T103000Z
DTEND:20100715T120000Z
LOCATION:洞戸中学校　体育館
TRANSP:OPAQUE
SEQUENCE:0
UID:pical060-1b268f648558191c13b13d1d95fa785d
DTSTAMP:20100706T014029Z
CATEGORIES:学校関連（小中）
DESCRIPTION:地区ごとに危険箇所を確認したり、夏休みの生活について話し合ったりします。
SUMMARY:洞中ＰＴＡ地区懇談会
PRIORITY:0
CLASS:PUBLIC
END:VEVENT
END:VCALENDAR
