BEGIN:VCALENDAR
CALSCALE:GREGORIAN
X-WR-TIMEZONE;VALUE=TEXT:GMT
PRODID:PEAK Corporation - piCal -
X-WR-CALNAME;VALUE=TEXT:板取中・洞戸中合唱交流会
VERSION:2.0
METHOD:PUBLISH
BEGIN:VTIMEZONE
TZID:GMT
BEGIN:STANDARD
DTSTART:19390101T000000
TZOFFSETFROM:+0000
TZOFFSETTO:+0000
TZNAME:GMT
END:STANDARD
END:VTIMEZONE
BEGIN:VEVENT
DTSTART:20100715T040000Z
DTEND:20100715T060000Z
LOCATION:洞戸中学校　体育館
TRANSP:OPAQUE
SEQUENCE:1
UID:pical060-a0c1709253506eb833935c59d454ae02
DTSTAMP:20100706T014650Z
CATEGORIES:学校関連（小中）
DESCRIPTION:お互いの誇りとしている合唱を交流し、よさを学び合います。各学年の合同合唱も行います。
SUMMARY:板取中・洞戸中合唱交流会
PRIORITY:0
CLASS:PUBLIC
END:VEVENT
END:VCALENDAR
