BEGIN:VCALENDAR
CALSCALE:GREGORIAN
X-WR-TIMEZONE;VALUE=TEXT:GMT
PRODID:PEAK Corporation - piCal -
X-WR-CALNAME;VALUE=TEXT:洞中進路講演会
VERSION:2.0
METHOD:PUBLISH
BEGIN:VTIMEZONE
TZID:GMT
BEGIN:STANDARD
DTSTART:19390101T000000
TZOFFSETFROM:+0000
TZOFFSETTO:+0000
TZNAME:GMT
END:STANDARD
END:VTIMEZONE
BEGIN:VEVENT
DTSTART:20100716T060000Z
DTEND:20100716T070000Z
LOCATION:洞戸中学校　体育館
TRANSP:OPAQUE
SEQUENCE:0
UID:pical060-8f6c8e866a462253e0d5b7b9f727f321
DTSTAMP:20100706T014613Z
CATEGORIES:学校関連（小中）
DESCRIPTION:高校を卒業した先輩から、進路決定の仕方や目標に向かって努力することの大切さを学びます。
SUMMARY:洞中進路講演会
PRIORITY:0
CLASS:PUBLIC
END:VEVENT
END:VCALENDAR
