BEGIN:VCALENDAR
CALSCALE:GREGORIAN
X-WR-TIMEZONE;VALUE=TEXT:GMT
PRODID:PEAK Corporation - piCal -
X-WR-CALNAME;VALUE=TEXT:洞中ＰＴＡ環境整備作業
VERSION:2.0
METHOD:PUBLISH
BEGIN:VTIMEZONE
TZID:GMT
BEGIN:STANDARD
DTSTART:19390101T000000
TZOFFSETFROM:+0000
TZOFFSETTO:+0000
TZNAME:GMT
END:STANDARD
END:VTIMEZONE
BEGIN:VEVENT
DTSTART:20100821T230000Z
DTEND:20100822T000000Z
LOCATION:洞戸中学校
TRANSP:OPAQUE
SEQUENCE:0
UID:pical060-c8aec491acc574d8f88a19ac5de7cc43
DTSTAMP:20100706T015125Z
CATEGORIES:学校関連（小中）
DESCRIPTION:親子でグランドの整備を中心に環境整備作業に取り組みます。
SUMMARY:洞中ＰＴＡ環境整備作業
PRIORITY:0
CLASS:PUBLIC
END:VEVENT
END:VCALENDAR
