BEGIN:VCALENDAR
CALSCALE:GREGORIAN
X-WR-TIMEZONE;VALUE=TEXT:GMT
PRODID:PEAK Corporation - piCal -
X-WR-CALNAME;VALUE=TEXT:洞戸中ＰＴＡ親子レク
VERSION:2.0
METHOD:PUBLISH
BEGIN:VTIMEZONE
TZID:GMT
BEGIN:STANDARD
DTSTART:19390101T000000
TZOFFSETFROM:+0000
TZOFFSETTO:+0000
TZNAME:GMT
END:STANDARD
END:VTIMEZONE
BEGIN:VEVENT
DTSTART:20100822T000000Z
DTEND:20100822T023000Z
LOCATION:洞戸中学校　体育館
TRANSP:OPAQUE
SEQUENCE:0
UID:pical060-046a00dd88ae60d1f354d30aaf7bf02a
DTSTAMP:20100706T015255Z
CATEGORIES:学校関連（小中）
DESCRIPTION:親子対抗でソフトバレーボールを楽しみます。
SUMMARY:洞戸中ＰＴＡ親子レク
PRIORITY:0
CLASS:PUBLIC
END:VEVENT
END:VCALENDAR
