BEGIN:VCALENDAR
CALSCALE:GREGORIAN
X-WR-TIMEZONE;VALUE=TEXT:GMT
PRODID:PEAK Corporation - piCal -
X-WR-CALNAME;VALUE=TEXT:洞中ホラド祭
VERSION:2.0
METHOD:PUBLISH
BEGIN:VTIMEZONE
TZID:GMT
BEGIN:STANDARD
DTSTART:19390101T000000
TZOFFSETFROM:+0000
TZOFFSETTO:+0000
TZNAME:GMT
END:STANDARD
END:VTIMEZONE
BEGIN:VEVENT
DTSTART:20101113T000000Z
DTEND:20101113T080000Z
LOCATION:洞戸中学校　体育館
TRANSP:OPAQUE
SEQUENCE:2
UID:pical060-78a9995c224890d8b3b37ec4ab45e50d
DTSTAMP:20101109T081227Z
CATEGORIES:学校関連（小中）
DESCRIPTION:総合的な学習の時間で取り組んできたことや学んだことを学年ごとに発表します。地域からたくさんのことを学んできた子どもたちの発表をぜひ聞いてください。
SUMMARY:洞中ホラド祭
PRIORITY:0
CLASS:PUBLIC
END:VEVENT
END:VCALENDAR
