BEGIN:VCALENDAR
CALSCALE:GREGORIAN
X-WR-TIMEZONE;VALUE=TEXT:GMT
PRODID:PEAK Corporation - piCal -
X-WR-CALNAME;VALUE=TEXT:洞中２学期終業式
VERSION:2.0
METHOD:PUBLISH
BEGIN:VTIMEZONE
TZID:GMT
BEGIN:STANDARD
DTSTART:19390101T000000
TZOFFSETFROM:+0000
TZOFFSETTO:+0000
TZNAME:GMT
END:STANDARD
END:VTIMEZONE
BEGIN:VEVENT
DTSTART:20101223T230000Z
DTEND:20101224T023000Z
LOCATION:洞戸中学校
TRANSP:OPAQUE
SEQUENCE:0
UID:pical060-3e99af8a52f501e80a9063f08e7a605f
DTSTAMP:20100706T021340Z
CATEGORIES:学校関連（小中）
DESCRIPTION:最も長い２学期が終了しました。様々な活動の中で生徒はたくましく成長しました。
SUMMARY:洞中２学期終業式
PRIORITY:0
CLASS:PUBLIC
END:VEVENT
END:VCALENDAR
