BEGIN:VCALENDAR
CALSCALE:GREGORIAN
X-WR-TIMEZONE;VALUE=TEXT:GMT
PRODID:PEAK Corporation - piCal -
X-WR-CALNAME;VALUE=TEXT:キウイマラソン企画政策委員会
VERSION:2.0
METHOD:PUBLISH
BEGIN:VTIMEZONE
TZID:GMT
BEGIN:STANDARD
DTSTART:19390101T000000
TZOFFSETFROM:+0000
TZOFFSETTO:+0000
TZNAME:GMT
END:STANDARD
END:VTIMEZONE
BEGIN:VEVENT
DTSTART:20100710T103000Z
DTEND:20100710T120000Z
LOCATION:洞戸生涯学習センター
TRANSP:OPAQUE
SEQUENCE:0
UID:pical060-c00b2680a2041336546aa214c128e395
DTSTAMP:20100707T231847Z
CATEGORIES:
DESCRIPTION:
SUMMARY:キウイマラソン企画政策委員会
PRIORITY:0
CLASS:PUBLIC
END:VEVENT
END:VCALENDAR
