BEGIN:VCALENDAR
CALSCALE:GREGORIAN
X-WR-TIMEZONE;VALUE=TEXT:GMT
PRODID:PEAK Corporation - piCal -
X-WR-CALNAME;VALUE=TEXT:洞戸小全校登校日
VERSION:2.0
METHOD:PUBLISH
BEGIN:VTIMEZONE
TZID:GMT
BEGIN:STANDARD
DTSTART:19390101T000000
TZOFFSETFROM:+0000
TZOFFSETTO:+0000
TZNAME:GMT
END:STANDARD
END:VTIMEZONE
BEGIN:VEVENT
DTSTART:20100809T000000Z
DTEND:20100809T021000Z
LOCATION:洞戸小学校
TRANSP:OPAQUE
SEQUENCE:1
UID:pical060-331761ad9f9759f342d418f0a1dcc8a8
DTSTAMP:20100715T071511Z
CATEGORIES:
DESCRIPTION:夏休みの中間点です。子どもたちの調子はどうでしょうか？
SUMMARY:洞戸小全校登校日
PRIORITY:0
CLASS:PUBLIC
END:VEVENT
END:VCALENDAR
