BEGIN:VCALENDAR
CALSCALE:GREGORIAN
X-WR-TIMEZONE;VALUE=TEXT:GMT
PRODID:PEAK Corporation - piCal -
X-WR-CALNAME;VALUE=TEXT:洞戸小プール
VERSION:2.0
METHOD:PUBLISH
BEGIN:VTIMEZONE
TZID:GMT
BEGIN:STANDARD
DTSTART:19390101T000000
TZOFFSETFROM:+0000
TZOFFSETTO:+0000
TZNAME:GMT
END:STANDARD
END:VTIMEZONE
BEGIN:VEVENT
DTSTART:20100803T040000Z
DTEND:20100803T053000Z
LOCATION:
TRANSP:OPAQUE
SEQUENCE:0
UID:pical060-d8d232593aff2aec78dbd09003d7a9b7
DTSTAMP:20100715T072547Z
CATEGORIES:
DESCRIPTION:
SUMMARY:洞戸小プール
PRIORITY:0
CLASS:PUBLIC
END:VEVENT
END:VCALENDAR
