BEGIN:VCALENDAR
CALSCALE:GREGORIAN
X-WR-TIMEZONE;VALUE=TEXT:GMT
PRODID:PEAK Corporation - piCal -
X-WR-CALNAME;VALUE=TEXT:洞戸小山の子音楽会
VERSION:2.0
METHOD:PUBLISH
BEGIN:VTIMEZONE
TZID:GMT
BEGIN:STANDARD
DTSTART:19390101T000000
TZOFFSETFROM:+0000
TZOFFSETTO:+0000
TZNAME:GMT
END:STANDARD
END:VTIMEZONE
BEGIN:VEVENT
DTSTART:20101126T040000Z
DTEND:20101126T060000Z
LOCATION:
TRANSP:OPAQUE
SEQUENCE:0
UID:pical060-c639475e1ca088cba16ecb880bacac6e
DTSTAMP:20100715T074916Z
CATEGORIES:
DESCRIPTION:
SUMMARY:洞戸小山の子音楽会
PRIORITY:0
CLASS:PUBLIC
END:VEVENT
END:VCALENDAR
