BEGIN:VCALENDAR
CALSCALE:GREGORIAN
X-WR-TIMEZONE;VALUE=TEXT:GMT
PRODID:PEAK Corporation - piCal -
X-WR-CALNAME;VALUE=TEXT:洞小６年生送る会
VERSION:2.0
METHOD:PUBLISH
BEGIN:VTIMEZONE
TZID:GMT
BEGIN:STANDARD
DTSTART:19390101T000000
TZOFFSETFROM:+0000
TZOFFSETTO:+0000
TZNAME:GMT
END:STANDARD
END:VTIMEZONE
BEGIN:VEVENT
DTSTART:20110304T003000Z
DTEND:20110304T013000Z
LOCATION:
TRANSP:OPAQUE
SEQUENCE:0
UID:pical060-c9f31b0f60f4d749a277624511483434
DTSTAMP:20100715T080151Z
CATEGORIES:
DESCRIPTION:
SUMMARY:洞小６年生送る会
PRIORITY:0
CLASS:PUBLIC
END:VEVENT
END:VCALENDAR
