BEGIN:VCALENDAR
CALSCALE:GREGORIAN
X-WR-TIMEZONE;VALUE=TEXT:GMT
PRODID:PEAK Corporation - piCal -
X-WR-CALNAME;VALUE=TEXT:洞小卒業証書授与式
VERSION:2.0
METHOD:PUBLISH
BEGIN:VTIMEZONE
TZID:GMT
BEGIN:STANDARD
DTSTART:19390101T000000
TZOFFSETFROM:+0000
TZOFFSETTO:+0000
TZNAME:GMT
END:STANDARD
END:VTIMEZONE
BEGIN:VEVENT
DTSTART:20110324T000000Z
DTEND:20110324T011500Z
LOCATION:
TRANSP:OPAQUE
SEQUENCE:0
UID:pical060-ad3e9a88060f9e1fe4481221b664a3bf
DTSTAMP:20100715T080501Z
CATEGORIES:
DESCRIPTION:
SUMMARY:洞小卒業証書授与式
PRIORITY:0
CLASS:PUBLIC
END:VEVENT
END:VCALENDAR
