BEGIN:VCALENDAR
CALSCALE:GREGORIAN
X-WR-TIMEZONE;VALUE=TEXT:GMT
PRODID:PEAK Corporation - piCal -
X-WR-CALNAME;VALUE=TEXT:美濃地区社会教育委員・公民館等研修会
VERSION:2.0
METHOD:PUBLISH
BEGIN:VTIMEZONE
TZID:GMT
BEGIN:STANDARD
DTSTART:19390101T000000
TZOFFSETFROM:+0000
TZOFFSETTO:+0000
TZNAME:GMT
END:STANDARD
END:VTIMEZONE
BEGIN:VEVENT
DTSTART:20100714T043000Z
DTEND:20100714T070000Z
LOCATION:郡上市総合文化センター
TRANSP:OPAQUE
SEQUENCE:0
UID:pical060-d411e10a4f9e27259c7c02eed20d875b
DTSTAMP:20100715T153349Z
CATEGORIES:ほらどまちづくり委員会
DESCRIPTION:＜研修会テーマ＞\n生きがい、やりがいのある社会教育委員・公民館の活動を求めて\n\n出席：社会教育委員　後藤、まちづくり委員会　武藤
SUMMARY:美濃地区社会教育委員・公民館等研修会
PRIORITY:0
CLASS:PUBLIC
END:VEVENT
END:VCALENDAR
