BEGIN:VCALENDAR
CALSCALE:GREGORIAN
X-WR-TIMEZONE;VALUE=TEXT:GMT
PRODID:PEAK Corporation - piCal -
X-WR-CALNAME;VALUE=TEXT:ピースベルフェスティバル第２回実行委員会
VERSION:2.0
METHOD:PUBLISH
BEGIN:VTIMEZONE
TZID:GMT
BEGIN:STANDARD
DTSTART:19390101T000000
TZOFFSETFROM:+0000
TZOFFSETTO:+0000
TZNAME:GMT
END:STANDARD
END:VTIMEZONE
BEGIN:VEVENT
DTSTART:20100805T053000Z
DTEND:20100805T063000Z
LOCATION:洞戸生涯学習センター
TRANSP:OPAQUE
SEQUENCE:1
UID:pical060-923343733cd52b108a02fc8eb8a33ba4
DTSTAMP:20100802T222948Z
CATEGORIES:洞戸村ふるさと塾,ほらどまちづくり委員会
DESCRIPTION:
SUMMARY:ピースベルフェスティバル第２回実行委員会
PRIORITY:0
CLASS:PUBLIC
END:VEVENT
END:VCALENDAR
