BEGIN:VCALENDAR
CALSCALE:GREGORIAN
X-WR-TIMEZONE;VALUE=TEXT:GMT
PRODID:PEAK Corporation - piCal -
X-WR-CALNAME;VALUE=TEXT:ふるさと塾　定例会
VERSION:2.0
METHOD:PUBLISH
BEGIN:VTIMEZONE
TZID:GMT
BEGIN:STANDARD
DTSTART:19390101T000000
TZOFFSETFROM:+0000
TZOFFSETTO:+0000
TZNAME:GMT
END:STANDARD
END:VTIMEZONE
BEGIN:VEVENT
DTSTART:20100805T103000Z
DTEND:20100805T120000Z
LOCATION:洞戸生涯学習センター
TRANSP:OPAQUE
SEQUENCE:1
UID:pical060-5787eed164466da4cc67d12951e7e2d0
DTSTAMP:20100802T221417Z
CATEGORIES:洞戸村ふるさと塾
DESCRIPTION:
SUMMARY:ふるさと塾　定例会
PRIORITY:0
CLASS:PUBLIC
END:VEVENT
END:VCALENDAR
