BEGIN:VCALENDAR
CALSCALE:GREGORIAN
X-WR-TIMEZONE;VALUE=TEXT:GMT
PRODID:PEAK Corporation - piCal -
X-WR-CALNAME;VALUE=TEXT:サイトカレンダー講座
VERSION:2.0
METHOD:PUBLISH
BEGIN:VTIMEZONE
TZID:GMT
BEGIN:STANDARD
DTSTART:19390101T000000
TZOFFSETFROM:+0000
TZOFFSETTO:+0000
TZNAME:GMT
END:STANDARD
END:VTIMEZONE
BEGIN:VEVENT
DTSTART:20100806T103000Z
DTEND:20100806T120000Z
LOCATION:洞戸生涯学習センター　ネットサロン室
TRANSP:OPAQUE
SEQUENCE:5
UID:pical060-0edb19bfc3db33dd5e01bafbe0888d4d
DTSTAMP:20100806T225045Z
CATEGORIES:ほらどまちづくり委員会
DESCRIPTION:社会福祉協議会洞戸支部役員さん向けの洞戸サイトカレンダー利用推進講座\n-----------------------------\n７名の参加がありました。\n早速、社会福祉協議会としても本サイトカレンダーを利用頂けることになりました。\nどうぞお楽しみに。。\n-----------------------------
SUMMARY:サイトカレンダー講座
PRIORITY:0
CLASS:PUBLIC
END:VEVENT
END:VCALENDAR
