BEGIN:VCALENDAR
CALSCALE:GREGORIAN
X-WR-TIMEZONE;VALUE=TEXT:GMT
PRODID:PEAK Corporation - piCal -
X-WR-CALNAME;VALUE=TEXT:原木椎茸発生試験
VERSION:2.0
METHOD:PUBLISH
BEGIN:VTIMEZONE
TZID:GMT
BEGIN:STANDARD
DTSTART:19390101T000000
TZOFFSETFROM:+0000
TZOFFSETTO:+0000
TZNAME:GMT
END:STANDARD
END:VTIMEZONE
BEGIN:VEVENT
DTSTART:20100722T070000Z
DTEND:20100722T080000Z
LOCATION:ほだ場→ビニールハウス
TRANSP:OPAQUE
SEQUENCE:0
UID:pical060-2177df81d6d233fc627a90c9c869a53b
DTSTAMP:20100802T222751Z
CATEGORIES:洞戸村ふるさと塾
DESCRIPTION:夏・冬菌のテスト発生作業を行いました。\n合計８０本ほどでしたが、この後２週間経っても発生は極少。\n\nこの暑さは椎茸菌にも過酷な様です。\n本格発生作業はしばらく見送ることに。。
SUMMARY:原木椎茸発生試験
PRIORITY:0
CLASS:PUBLIC
END:VEVENT
END:VCALENDAR
