BEGIN:VCALENDAR
CALSCALE:GREGORIAN
X-WR-TIMEZONE;VALUE=TEXT:GMT
PRODID:PEAK Corporation - piCal -
X-WR-CALNAME;VALUE=TEXT:キウイマラソン式典委員会
VERSION:2.0
METHOD:PUBLISH
BEGIN:VTIMEZONE
TZID:GMT
BEGIN:STANDARD
DTSTART:19390101T000000
TZOFFSETFROM:+0000
TZOFFSETTO:+0000
TZNAME:GMT
END:STANDARD
END:VTIMEZONE
BEGIN:VEVENT
DTSTART:20100721T103000Z
DTEND:20100721T120000Z
LOCATION:洞戸事務所
TRANSP:OPAQUE
SEQUENCE:0
UID:pical060-8fd3eaba9c077fdc9f3a50ad0a872c7c
DTSTAMP:20100804T075919Z
CATEGORIES:
DESCRIPTION:
SUMMARY:キウイマラソン式典委員会
PRIORITY:0
CLASS:PUBLIC
END:VEVENT
END:VCALENDAR
