BEGIN:VCALENDAR
CALSCALE:GREGORIAN
X-WR-TIMEZONE;VALUE=TEXT:GMT
PRODID:PEAK Corporation - piCal -
X-WR-CALNAME;VALUE=TEXT:郷土展望　打ち合わせ会
VERSION:2.0
METHOD:PUBLISH
BEGIN:VTIMEZONE
TZID:GMT
BEGIN:STANDARD
DTSTART:19390101T000000
TZOFFSETFROM:+0000
TZOFFSETTO:+0000
TZNAME:GMT
END:STANDARD
END:VTIMEZONE
BEGIN:VEVENT
DTSTART:20100723T040000Z
DTEND:20100723T070000Z
LOCATION:岐阜県博物館
TRANSP:OPAQUE
SEQUENCE:0
UID:pical060-fd2e3d707373074f507a25cb9767277d
DTSTAMP:20100804T080049Z
CATEGORIES:洞戸村ふるさと塾,ほらどまちづくり委員会,学習センター
DESCRIPTION:
SUMMARY:郷土展望　打ち合わせ会
PRIORITY:0
CLASS:PUBLIC
END:VEVENT
END:VCALENDAR
